BEGIN:VCALENDAR
VERSION:2.0
PRODID:-//European Folk Day - September the 23rd - ECPv6.13.1//NONSGML v1.0//EN
CALSCALE:GREGORIAN
METHOD:PUBLISH
X-ORIGINAL-URL:https://www.europeanfolkday.eu
X-WR-CALDESC:Events for European Folk Day - September the 23rd
REFRESH-INTERVAL;VALUE=DURATION:PT1H
X-Robots-Tag:noindex
X-PUBLISHED-TTL:PT1H
BEGIN:VTIMEZONE
TZID:Europe/Paris
BEGIN:DAYLIGHT
TZOFFSETFROM:+0100
TZOFFSETTO:+0200
TZNAME:CEST
DTSTART:20240331T010000
END:DAYLIGHT
BEGIN:STANDARD
TZOFFSETFROM:+0200
TZOFFSETTO:+0100
TZNAME:CET
DTSTART:20241027T010000
END:STANDARD
END:VTIMEZONE
BEGIN:VEVENT
DTSTART;TZID=Europe/Paris:20240923T190000
DTEND;TZID=Europe/Paris:20240923T220000
DTSTAMP:20260424T124525
CREATED:20240916T104014Z
LAST-MODIFIED:20240916T163723Z
UID:10000501-1727118000-1727128800@www.europeanfolkday.eu
SUMMARY:"Hencida Táncház" - Dances from Moldva
DESCRIPTION:Let start the new season with a special dance event! \nWe’ll be participating in European Folk Day to celabrate European cultural identity and diversity. \nJoin us on September 23rd at Europa Liget in Buda! Meeting point: “Mackó úrfi” statue. \nWe’ll teach all the dances throughout the night. \nThe event is free. \nThere is a nearby toilet with a fee of 250 Ft. \nIn case of bad weather\, the event will be canceled. \n  \n#europeanfolkday  #europeanfolkday2024
URL:https://www.europeanfolkday.eu/event/hencida-tanchaz-dances-from-moldva/
LOCATION:Európa Liget\, Európa liget\, Budapest\, 1015\, Hungary
CATEGORIES:dance
ATTACH;FMTTYPE=image/jpeg:https://www.europeanfolkday.eu/www-live/wp-content/uploads/2024/09/TH_szeptember-scaled.jpg
ORGANIZER;CN="Hencida Folk Art Association":MAILTO:hencidatanc@gmail.com
GEO:47.5053137;19.0310029
X-APPLE-STRUCTURED-LOCATION;VALUE=URI;X-ADDRESS=Európa Liget Európa liget Budapest 1015 Hungary;X-APPLE-RADIUS=500;X-TITLE=Európa liget:geo:19.0310029,47.5053137
END:VEVENT
END:VCALENDAR