BEGIN:VCALENDAR
VERSION:2.0
PRODID:-//European Folk Day - September the 23rd - ECPv6.13.1//NONSGML v1.0//EN
CALSCALE:GREGORIAN
METHOD:PUBLISH
X-ORIGINAL-URL:https://www.europeanfolkday.eu
X-WR-CALDESC:Events for European Folk Day - September the 23rd
REFRESH-INTERVAL;VALUE=DURATION:PT1H
X-Robots-Tag:noindex
X-PUBLISHED-TTL:PT1H
BEGIN:VTIMEZONE
TZID:Europe/Paris
BEGIN:DAYLIGHT
TZOFFSETFROM:+0100
TZOFFSETTO:+0200
TZNAME:CEST
DTSTART:20240331T010000
END:DAYLIGHT
BEGIN:STANDARD
TZOFFSETFROM:+0200
TZOFFSETTO:+0100
TZNAME:CET
DTSTART:20241027T010000
END:STANDARD
END:VTIMEZONE
BEGIN:VEVENT
DTSTART;TZID=Europe/Paris:20240920T180000
DTEND;TZID=Europe/Paris:20240922T170000
DTSTAMP:20260419T152010
CREATED:20240906T110003Z
LAST-MODIFIED:20240915T191134Z
UID:10000482-1726855200-1727024400@www.europeanfolkday.eu
SUMMARY:Hathersage Village Hop
DESCRIPTION:European music and dance workshops and evening dances (French\, Scandi and Balkan mostly) \nemail ‘patgoodacre@gmail.com’ if interested\, pre-booking essential \n  \n#europeanfolkday  #europeanfolkday2024
URL:https://www.europeanfolkday.eu/event/hathersage-village-hop/
LOCATION:Hathersage Memorial Hall\, Oddfellows Rd\, Hathersage\, Derbyshire\, S32 1DU\, United Kingdom
CATEGORIES:dance,music
ORGANIZER;CN="Scandimoot":MAILTO:info@scandimoot.org.uk
GEO:53.3289918;-1.6536442
X-APPLE-STRUCTURED-LOCATION;VALUE=URI;X-ADDRESS=Hathersage Memorial Hall Oddfellows Rd Hathersage Derbyshire S32 1DU United Kingdom;X-APPLE-RADIUS=500;X-TITLE=Oddfellows Rd:geo:-1.6536442,53.3289918
END:VEVENT
END:VCALENDAR