BEGIN:VCALENDAR
VERSION:2.0
PRODID:-//European Folk Day - September the 23rd - ECPv6.13.1//NONSGML v1.0//EN
CALSCALE:GREGORIAN
METHOD:PUBLISH
X-ORIGINAL-URL:https://www.europeanfolkday.eu
X-WR-CALDESC:Events for European Folk Day - September the 23rd
REFRESH-INTERVAL;VALUE=DURATION:PT1H
X-Robots-Tag:noindex
X-PUBLISHED-TTL:PT1H
BEGIN:VTIMEZONE
TZID:UTC
BEGIN:STANDARD
TZOFFSETFROM:+0000
TZOFFSETTO:+0000
TZNAME:UTC
DTSTART:20250101T000000
END:STANDARD
END:VTIMEZONE
BEGIN:VEVENT
DTSTART;TZID=UTC:20251001T190000
DTEND;TZID=UTC:20251001T210000
DTSTAMP:20260421T110410
CREATED:20250924T145110Z
LAST-MODIFIED:20250924T145110Z
UID:10000722-1759345200-1759352400@www.europeanfolkday.eu
SUMMARY:Cân y Cymoedd LGBTQ+ HISTORY TALK AND WRITING WORKSHOP WITH NORENA SHOPLAND
DESCRIPTION:Norena is a Welsh historian and author with a focus on LGBTQ+ history and heritage \nShe delivers talks\, lectures\, and workshops exploring Welsh history and queer narratives. \nThis creative writing workshop invites participants to explore and respond to the stories and histories of Wales’ often overlooked LGBTQ+ figures through their own creative lens \n1st October @ The Art Space\, \nPort Talbot 7pm \nFree to attend!
URL:https://www.europeanfolkday.eu/event/can-y-cymoedd-lgbtq-history-talk-and-writing-workshop-with-norena-shopland/
LOCATION:The Arts Space\, 39 Station Road\, Port Talbot\, Cymru Wales\, SA13 1NN\, United Kingdom
ATTACH;FMTTYPE=image/jpeg:https://www.europeanfolkday.eu/www-live/wp-content/uploads/2025/09/Can-y-Cymoedd-NPT-Pride-2.jpg
ORGANIZER;CN="trac cymru":MAILTO:cyfarwyddydd@trac-cymru.org
GEO:51.5935435;-3.7813227
X-APPLE-STRUCTURED-LOCATION;VALUE=URI;X-ADDRESS=The Arts Space 39 Station Road Port Talbot Cymru Wales SA13 1NN United Kingdom;X-APPLE-RADIUS=500;X-TITLE=39 Station Road:geo:-3.7813227,51.5935435
END:VEVENT
END:VCALENDAR